Package: NADfinder Version: 1.31.1 Command: /Library/Frameworks/R.framework/Resources/bin/R CMD INSTALL NADfinder StartedAt: 2025-02-04 15:23:38 -0500 (Tue, 04 Feb 2025) EndedAt: 2025-02-04 15:24:07 -0500 (Tue, 04 Feb 2025) EllapsedTime: 28.9 seconds RetCode: 0 Status: OK