Package: NADfinder Version: 1.31.1 Command: /home/biocbuild/R/R/bin/R CMD build --keep-empty-dirs --no-resave-data NADfinder StartedAt: 2025-01-29 00:47:36 -0000 (Wed, 29 Jan 2025) EndedAt: 2025-01-29 00:52:03 -0000 (Wed, 29 Jan 2025) EllapsedTime: 267.1 seconds RetCode: 0 Status: OK PackageFile: NADfinder_1.31.1.tar.gz PackageFileSize: 5.819 MiB