Package: NADfinder Version: 1.31.1 Command: /home/biocbuild/R/R/bin/R CMD check --install=check:NADfinder.install-out.txt --library=/home/biocbuild/R/R/site-library --no-vignettes --timings NADfinder_1.31.1.tar.gz StartedAt: 2025-01-28 13:10:13 -0000 (Tue, 28 Jan 2025) EndedAt: 2025-01-28 13:25:27 -0000 (Tue, 28 Jan 2025) EllapsedTime: 914.3 seconds RetCode: 0 Status: WARNINGS CheckDir: NADfinder.Rcheck Warnings: 5