Package: NADfinder Version: 1.31.1 Command: /home/biocbuild/R/R/bin/R CMD INSTALL NADfinder StartedAt: 2025-01-29 20:25:24 -0000 (Wed, 29 Jan 2025) EndedAt: 2025-01-29 20:27:00 -0000 (Wed, 29 Jan 2025) EllapsedTime: 96.6 seconds RetCode: 0 Status: OK