Package: NADfinder Version: 1.31.1 Command: /Library/Frameworks/R.framework/Resources/bin/R CMD check --install=check:NADfinder.install-out.txt --library=/Library/Frameworks/R.framework/Resources/library --no-vignettes --timings NADfinder_1.31.1.tar.gz StartedAt: 2025-02-09 22:16:28 -0500 (Sun, 09 Feb 2025) EndedAt: 2025-02-09 22:26:29 -0500 (Sun, 09 Feb 2025) EllapsedTime: 601.4 seconds RetCode: 0 Status: OK CheckDir: NADfinder.Rcheck Warnings: 0