Package: NADfinder Version: 1.31.1 Command: /Library/Frameworks/R.framework/Resources/bin/R CMD INSTALL NADfinder StartedAt: 2025-02-09 15:39:38 -0500 (Sun, 09 Feb 2025) EndedAt: 2025-02-09 15:41:14 -0500 (Sun, 09 Feb 2025) EllapsedTime: 96.0 seconds RetCode: 0 Status: OK