Package: NADfinder Version: 1.31.1 Command: /home/biocbuild/bbs-3.21-bioc/R/bin/R CMD build --keep-empty-dirs --no-resave-data NADfinder StartedAt: 2025-02-09 18:22:02 -0500 (Sun, 09 Feb 2025) EndedAt: 2025-02-09 18:25:07 -0500 (Sun, 09 Feb 2025) EllapsedTime: 184.1 seconds RetCode: 0 Status: OK PackageFile: NADfinder_1.31.1.tar.gz PackageFileSize: 5.98 MiB