Package: NADfinder Version: 1.31.1 Command: /home/biocbuild/bbs-3.21-bioc/R/bin/R CMD check --install=check:NADfinder.install-out.txt --library=/home/biocbuild/bbs-3.21-bioc/R/site-library --timings NADfinder_1.31.1.tar.gz StartedAt: 2025-02-10 00:42:05 -0500 (Mon, 10 Feb 2025) EndedAt: 2025-02-10 00:53:13 -0500 (Mon, 10 Feb 2025) EllapsedTime: 668.2 seconds RetCode: 0 Status: OK CheckDir: NADfinder.Rcheck Warnings: 0