Package: NADfinder Version: 1.31.1 Command: /home/biocbuild/bbs-3.21-bioc/R/bin/R CMD INSTALL NADfinder StartedAt: 2025-02-09 15:55:08 -0500 (Sun, 09 Feb 2025) EndedAt: 2025-02-09 15:56:22 -0500 (Sun, 09 Feb 2025) EllapsedTime: 73.8 seconds RetCode: 0 Status: OK