Package: NADfinder Version: 1.31.1 Command: rm -rf NADfinder.buildbin-libdir && mkdir NADfinder.buildbin-libdir && E:\biocbuild\bbs-3.21-bioc\R\bin\R.exe CMD INSTALL --build --library=NADfinder.buildbin-libdir NADfinder_1.31.1.tar.gz StartedAt: 2025-02-05 08:27:52 -0500 (Wed, 05 Feb 2025) EndedAt: 2025-02-05 08:29:24 -0500 (Wed, 05 Feb 2025) EllapsedTime: 91.9 seconds RetCode: 0 Status: OK PackageFile: NADfinder_1.31.1.zip PackageFileSize: 6.169 MiB