Package: NADfinder Version: 1.31.1 Command: chmod a+r NADfinder -R && E:\biocbuild\bbs-3.21-bioc\R\bin\R.exe CMD build --keep-empty-dirs --no-resave-data NADfinder StartedAt: 2025-02-04 20:19:40 -0500 (Tue, 04 Feb 2025) EndedAt: 2025-02-04 20:23:07 -0500 (Tue, 04 Feb 2025) EllapsedTime: 207.0 seconds RetCode: 0 Status: OK PackageFile: NADfinder_1.31.1.tar.gz PackageFileSize: 5.677 MiB