Package: NBAMSeq Version: 1.23.0 Command: /Library/Frameworks/R.framework/Resources/bin/R CMD build --keep-empty-dirs --no-resave-data NBAMSeq StartedAt: 2025-02-09 17:06:31 -0500 (Sun, 09 Feb 2025) EndedAt: 2025-02-09 17:06:52 -0500 (Sun, 09 Feb 2025) EllapsedTime: 21.2 seconds RetCode: 0 Status: OK PackageFile: NBAMSeq_1.23.0.tar.gz PackageFileSize: 352.6 KiB