Package: NBAMSeq Version: 1.23.0 Command: /home/biocbuild/R/R/bin/R CMD build --keep-empty-dirs --no-resave-data NBAMSeq StartedAt: 2025-01-29 00:48:26 -0000 (Wed, 29 Jan 2025) EndedAt: 2025-01-29 00:49:40 -0000 (Wed, 29 Jan 2025) EllapsedTime: 74.0 seconds RetCode: 0 Status: OK PackageFile: NBAMSeq_1.23.0.tar.gz PackageFileSize: 283 KiB