Package: NCIgraph Version: 1.55.0 Command: /home/biocbuild/R/R/bin/R CMD check --install=check:NCIgraph.install-out.txt --library=/home/biocbuild/R/R/site-library --no-vignettes --timings NCIgraph_1.55.0.tar.gz StartedAt: 2025-01-28 13:13:58 -0000 (Tue, 28 Jan 2025) EndedAt: 2025-01-28 13:15:29 -0000 (Tue, 28 Jan 2025) EllapsedTime: 91.2 seconds RetCode: 0 Status: OK CheckDir: NCIgraph.Rcheck Warnings: 0