Package: NCIgraph Version: 1.55.0 Command: /home/biocbuild/bbs-3.21-bioc/R/bin/R CMD build --keep-empty-dirs --no-resave-data NCIgraph StartedAt: 2025-02-09 18:23:09 -0500 (Sun, 09 Feb 2025) EndedAt: 2025-02-09 18:23:25 -0500 (Sun, 09 Feb 2025) EllapsedTime: 16.0 seconds RetCode: 0 Status: OK PackageFile: NCIgraph_1.55.0.tar.gz PackageFileSize: 201.6 KiB