Package: NCIgraph Version: 1.55.0 Command: /home/biocbuild/bbs-3.21-bioc/R/bin/R CMD check --install=check:NCIgraph.install-out.txt --library=/home/biocbuild/bbs-3.21-bioc/R/site-library --timings NCIgraph_1.55.0.tar.gz StartedAt: 2025-02-10 00:44:18 -0500 (Mon, 10 Feb 2025) EndedAt: 2025-02-10 00:45:20 -0500 (Mon, 10 Feb 2025) EllapsedTime: 62.1 seconds RetCode: 0 Status: OK CheckDir: NCIgraph.Rcheck Warnings: 0