Package: NCIgraph Version: 1.55.0 Command: /home/biocbuild/bbs-3.21-bioc/R/bin/R CMD INSTALL NCIgraph StartedAt: 2025-02-09 15:31:45 -0500 (Sun, 09 Feb 2025) EndedAt: 2025-02-09 15:31:52 -0500 (Sun, 09 Feb 2025) EllapsedTime: 6.7 seconds RetCode: 0 Status: OK