Package: NOISeq Version: 2.51.0 Maintainer: Sonia Tarazona MaintainerEmail: sotacam at eio.upv.es git_url: https://git.bioconductor.org/packages/NOISeq git_branch: devel git_last_commit: bf39f9c git_last_commit_date: 2024-10-29 09:43:14 -0500 (Tue, 29 Oct 2024)