Package: NOISeq Version: 2.51.0 Command: /Library/Frameworks/R.framework/Resources/bin/R CMD INSTALL NOISeq StartedAt: 2025-02-09 15:01:23 -0500 (Sun, 09 Feb 2025) EndedAt: 2025-02-09 15:01:31 -0500 (Sun, 09 Feb 2025) EllapsedTime: 7.4 seconds RetCode: 0 Status: OK