Package: NOISeq Version: 2.51.0 Command: /home/biocbuild/R/R/bin/R CMD build --keep-empty-dirs --no-resave-data NOISeq StartedAt: 2025-01-29 00:53:33 -0000 (Wed, 29 Jan 2025) EndedAt: 2025-01-29 00:55:34 -0000 (Wed, 29 Jan 2025) EllapsedTime: 120.3 seconds RetCode: 0 Status: OK PackageFile: NOISeq_2.51.0.tar.gz PackageFileSize: 2.052 MiB