Package: NOISeq Version: 2.51.0 Command: /home/biocbuild/R/R/bin/R CMD INSTALL NOISeq StartedAt: 2025-01-29 19:31:18 -0000 (Wed, 29 Jan 2025) EndedAt: 2025-01-29 19:32:03 -0000 (Wed, 29 Jan 2025) EllapsedTime: 44.3 seconds RetCode: 0 Status: OK