Package: NOISeq Version: 2.51.0 Command: /Library/Frameworks/R.framework/Resources/bin/R CMD build --keep-empty-dirs --no-resave-data NOISeq StartedAt: 2025-02-09 17:44:56 -0500 (Sun, 09 Feb 2025) EndedAt: 2025-02-09 17:46:49 -0500 (Sun, 09 Feb 2025) EllapsedTime: 112.8 seconds RetCode: 0 Status: OK PackageFile: NOISeq_2.51.0.tar.gz PackageFileSize: 2.057 MiB