Package: NOISeq Version: 2.51.0 Command: /Library/Frameworks/R.framework/Resources/bin/R CMD check --install=check:NOISeq.install-out.txt --library=/Library/Frameworks/R.framework/Resources/library --no-vignettes --timings NOISeq_2.51.0.tar.gz StartedAt: 2025-02-09 22:21:15 -0500 (Sun, 09 Feb 2025) EndedAt: 2025-02-09 22:23:00 -0500 (Sun, 09 Feb 2025) EllapsedTime: 104.2 seconds RetCode: 0 Status: OK CheckDir: NOISeq.Rcheck Warnings: 0