Package: NOISeq Version: 2.51.0 Command: rm -rf NOISeq.buildbin-libdir && mkdir NOISeq.buildbin-libdir && E:\biocbuild\bbs-3.21-bioc\R\bin\R.exe CMD INSTALL --build --library=NOISeq.buildbin-libdir NOISeq_2.51.0.tar.gz StartedAt: 2025-02-10 08:17:32 -0500 (Mon, 10 Feb 2025) EndedAt: 2025-02-10 08:18:07 -0500 (Mon, 10 Feb 2025) EllapsedTime: 34.6 seconds RetCode: 0 Status: OK PackageFile: NOISeq_2.51.0.zip PackageFileSize: 2.264 MiB