Package: NOISeq Version: 2.51.0 Command: E:\biocbuild\bbs-3.21-bioc\R\bin\R.exe CMD check --no-multiarch --install=check:NOISeq.install-out.txt --library=E:\biocbuild\bbs-3.21-bioc\R\library --no-vignettes --timings NOISeq_2.51.0.tar.gz StartedAt: 2025-02-10 03:38:44 -0500 (Mon, 10 Feb 2025) EndedAt: 2025-02-10 03:40:46 -0500 (Mon, 10 Feb 2025) EllapsedTime: 121.6 seconds RetCode: 0 Status: OK CheckDir: NOISeq.Rcheck Warnings: 0