Package: NOISeq Version: 2.51.0 Command: E:\biocbuild\bbs-3.21-bioc\R\bin\R.exe CMD INSTALL NOISeq StartedAt: 2025-02-09 15:23:50 -0500 (Sun, 09 Feb 2025) EndedAt: 2025-02-09 15:24:20 -0500 (Sun, 09 Feb 2025) EllapsedTime: 29.5 seconds RetCode: 0 Status: OK