Package: NanoMethViz Version: 3.3.3 Maintainer: Shian Su MaintainerEmail: su.s at wehi.edu.au git_url: https://git.bioconductor.org/packages/NanoMethViz git_branch: devel git_last_commit: 00d2a79 git_last_commit_date: 2025-01-16 19:04:32 -0500 (Thu, 16 Jan 2025)