Package: NanoMethViz Version: 3.3.3 Command: rm -rf NanoMethViz.buildbin-libdir && mkdir NanoMethViz.buildbin-libdir && /Users/biocbuild/BBS/utils/build-universal.sh NanoMethViz_3.3.3.tar.gz /Library/Frameworks/R.framework/Resources/bin/R NanoMethViz.buildbin-libdir StartedAt: 2025-02-09 22:23:15 -0500 (Sun, 09 Feb 2025) EndedAt: 2025-02-09 22:23:41 -0500 (Sun, 09 Feb 2025) EllapsedTime: 26.4 seconds RetCode: 0 Status: OK PackageFile: NanoMethViz_3.3.3.tgz PackageFileSize: 9.142 MiB