Package: NanoMethViz Version: 3.3.3 Command: /home/biocbuild/R/R/bin/R CMD build --keep-empty-dirs --no-resave-data NanoMethViz StartedAt: 2025-01-29 00:47:47 -0000 (Wed, 29 Jan 2025) EndedAt: 2025-01-29 00:52:19 -0000 (Wed, 29 Jan 2025) EllapsedTime: 272.1 seconds RetCode: 0 Status: OK PackageFile: NanoMethViz_3.3.3.tar.gz PackageFileSize: 6.595 MiB