Package: NanoMethViz Version: 3.3.3 Command: /home/biocbuild/R/R/bin/R CMD check --install=check:NanoMethViz.install-out.txt --library=/home/biocbuild/R/R/site-library --no-vignettes --timings NanoMethViz_3.3.3.tar.gz StartedAt: 2025-01-28 13:10:21 -0000 (Tue, 28 Jan 2025) EndedAt: 2025-01-28 13:27:15 -0000 (Tue, 28 Jan 2025) EllapsedTime: 1014.6 seconds RetCode: 0 Status: OK CheckDir: NanoMethViz.Rcheck Warnings: 0