Package: NanoMethViz Version: 3.3.3 Command: /home/biocbuild/R/R/bin/R CMD INSTALL NanoMethViz StartedAt: 2025-01-29 20:27:41 -0000 (Wed, 29 Jan 2025) EndedAt: 2025-01-29 20:29:25 -0000 (Wed, 29 Jan 2025) EllapsedTime: 104.2 seconds RetCode: 0 Status: OK