Package: NanoMethViz Version: 3.3.3 Command: rm -rf NanoMethViz.buildbin-libdir && mkdir NanoMethViz.buildbin-libdir && /Users/biocbuild/BBS/utils/build-universal.sh NanoMethViz_3.3.3.tar.gz /Library/Frameworks/R.framework/Resources/bin/R NanoMethViz.buildbin-libdir StartedAt: 2025-02-04 00:45:57 -0500 (Tue, 04 Feb 2025) EndedAt: 2025-02-04 00:47:27 -0500 (Tue, 04 Feb 2025) EllapsedTime: 90.1 seconds RetCode: 0 Status: OK PackageFile: NanoMethViz_3.3.3.tgz PackageFileSize: 9.148 MiB