Package: NanoMethViz Version: 3.3.3 Command: /Library/Frameworks/R.framework/Resources/bin/R CMD build --keep-empty-dirs --no-resave-data NanoMethViz StartedAt: 2025-02-03 17:40:52 -0500 (Mon, 03 Feb 2025) EndedAt: 2025-02-03 17:44:53 -0500 (Mon, 03 Feb 2025) EllapsedTime: 241.1 seconds RetCode: 0 Status: OK PackageFile: NanoMethViz_3.3.3.tar.gz PackageFileSize: 8.436 MiB