Package: NanoMethViz Version: 3.3.3 Command: /Library/Frameworks/R.framework/Resources/bin/R CMD check --install=check:NanoMethViz.install-out.txt --library=/Library/Frameworks/R.framework/Resources/library --no-vignettes --timings NanoMethViz_3.3.3.tar.gz StartedAt: 2025-02-09 22:16:28 -0500 (Sun, 09 Feb 2025) EndedAt: 2025-02-09 22:27:48 -0500 (Sun, 09 Feb 2025) EllapsedTime: 680.8 seconds RetCode: 0 Status: OK CheckDir: NanoMethViz.Rcheck Warnings: 0