Package: NanoMethViz Version: 3.3.3 Command: /Library/Frameworks/R.framework/Resources/bin/R CMD INSTALL NanoMethViz StartedAt: 2025-02-03 15:43:31 -0500 (Mon, 03 Feb 2025) EndedAt: 2025-02-03 15:44:55 -0500 (Mon, 03 Feb 2025) EllapsedTime: 83.4 seconds RetCode: 0 Status: OK