Package: NanoMethViz Version: 3.3.3 Command: /home/biocbuild/bbs-3.21-bioc/R/bin/R CMD build --keep-empty-dirs --no-resave-data NanoMethViz StartedAt: 2025-02-09 18:22:11 -0500 (Sun, 09 Feb 2025) EndedAt: 2025-02-09 18:25:18 -0500 (Sun, 09 Feb 2025) EllapsedTime: 186.1 seconds RetCode: 0 Status: OK PackageFile: NanoMethViz_3.3.3.tar.gz PackageFileSize: 7.674 MiB