Package: NanoMethViz Version: 3.3.3 Command: /home/biocbuild/bbs-3.21-bioc/R/bin/R CMD INSTALL NanoMethViz StartedAt: 2025-02-09 15:51:07 -0500 (Sun, 09 Feb 2025) EndedAt: 2025-02-09 15:52:20 -0500 (Sun, 09 Feb 2025) EllapsedTime: 72.5 seconds RetCode: 0 Status: OK