Package: NanoMethViz Version: 3.3.3 Command: rm -rf NanoMethViz.buildbin-libdir && mkdir NanoMethViz.buildbin-libdir && E:\biocbuild\bbs-3.21-bioc\R\bin\R.exe CMD INSTALL --build --library=NanoMethViz.buildbin-libdir NanoMethViz_3.3.3.tar.gz StartedAt: 2025-02-04 08:29:27 -0500 (Tue, 04 Feb 2025) EndedAt: 2025-02-04 08:31:47 -0500 (Tue, 04 Feb 2025) EllapsedTime: 140.2 seconds RetCode: 0 Status: OK PackageFile: NanoMethViz_3.3.3.zip PackageFileSize: 8.108 MiB