Package: NanoMethViz Version: 3.3.3 Command: chmod a+r NanoMethViz -R && E:\biocbuild\bbs-3.21-bioc\R\bin\R.exe CMD build --keep-empty-dirs --no-resave-data NanoMethViz StartedAt: 2025-02-03 20:29:58 -0500 (Mon, 03 Feb 2025) EndedAt: 2025-02-03 20:37:15 -0500 (Mon, 03 Feb 2025) EllapsedTime: 436.7 seconds RetCode: 0 Status: OK PackageFile: NanoMethViz_3.3.3.tar.gz PackageFileSize: 7.035 MiB