Package: NanoMethViz Version: 3.3.3 Command: E:\biocbuild\bbs-3.21-bioc\R\bin\R.exe CMD check --no-multiarch --install=check:NanoMethViz.install-out.txt --library=E:\biocbuild\bbs-3.21-bioc\R\library --no-vignettes --timings NanoMethViz_3.3.3.tar.gz StartedAt: 2025-02-10 03:31:00 -0500 (Mon, 10 Feb 2025) EndedAt: 2025-02-10 03:44:01 -0500 (Mon, 10 Feb 2025) EllapsedTime: 780.8 seconds RetCode: 0 Status: OK CheckDir: NanoMethViz.Rcheck Warnings: 0