Package: NanoMethViz Version: 3.3.3 Command: E:\biocbuild\bbs-3.21-bioc\R\bin\R.exe CMD INSTALL NanoMethViz StartedAt: 2025-02-03 16:48:35 -0500 (Mon, 03 Feb 2025) EndedAt: 2025-02-03 16:52:18 -0500 (Mon, 03 Feb 2025) EllapsedTime: 223.4 seconds RetCode: 0 Status: OK