Package: NanoStringDiff Version: 1.37.0 Command: rm -rf NanoStringDiff.buildbin-libdir && mkdir NanoStringDiff.buildbin-libdir && /Users/biocbuild/BBS/utils/build-universal.sh NanoStringDiff_1.37.0.tar.gz /Library/Frameworks/R.framework/Resources/bin/R NanoStringDiff.buildbin-libdir StartedAt: 2025-02-09 22:23:16 -0500 (Sun, 09 Feb 2025) EndedAt: 2025-02-09 22:23:21 -0500 (Sun, 09 Feb 2025) EllapsedTime: 5.0 seconds RetCode: 0 Status: OK PackageFile: NanoStringDiff_1.37.0.tgz PackageFileSize: 469.6 KiB