Package: NanoStringDiff Version: 1.37.0 Command: /Library/Frameworks/R.framework/Resources/bin/R CMD build --keep-empty-dirs --no-resave-data NanoStringDiff StartedAt: 2025-02-09 17:06:17 -0500 (Sun, 09 Feb 2025) EndedAt: 2025-02-09 17:06:27 -0500 (Sun, 09 Feb 2025) EllapsedTime: 10.1 seconds RetCode: 0 Status: OK PackageFile: NanoStringDiff_1.37.0.tar.gz PackageFileSize: 416.4 KiB