Package: NanoStringDiff Version: 1.37.0 Command: /Library/Frameworks/R.framework/Resources/bin/R CMD check --install=check:NanoStringDiff.install-out.txt --library=/Library/Frameworks/R.framework/Resources/library --no-vignettes --timings NanoStringDiff_1.37.0.tar.gz StartedAt: 2025-02-03 21:00:12 -0500 (Mon, 03 Feb 2025) EndedAt: 2025-02-03 21:01:06 -0500 (Mon, 03 Feb 2025) EllapsedTime: 53.9 seconds RetCode: 0 Status: WARNINGS CheckDir: NanoStringDiff.Rcheck Warnings: 1