Package: NanoStringDiff Version: 1.37.0 Command: /Library/Frameworks/R.framework/Resources/bin/R CMD INSTALL NanoStringDiff StartedAt: 2025-02-03 15:37:25 -0500 (Mon, 03 Feb 2025) EndedAt: 2025-02-03 15:37:32 -0500 (Mon, 03 Feb 2025) EllapsedTime: 7.4 seconds RetCode: 0 Status: OK