Package: NanoStringDiff Version: 1.37.0 Command: rm -rf NanoStringDiff.buildbin-libdir && mkdir NanoStringDiff.buildbin-libdir && /Users/biocbuild/BBS/utils/build-universal.sh NanoStringDiff_1.37.0.tar.gz /Library/Frameworks/R.framework/Resources/bin/R NanoStringDiff.buildbin-libdir StartedAt: 2025-02-10 01:05:34 -0500 (Mon, 10 Feb 2025) EndedAt: 2025-02-10 01:05:50 -0500 (Mon, 10 Feb 2025) EllapsedTime: 16.1 seconds RetCode: 0 Status: OK PackageFile: NanoStringDiff_1.37.0.tgz PackageFileSize: 470.4 KiB