Package: NanoStringDiff Version: 1.37.0 Command: /home/biocbuild/bbs-3.21-bioc/R/bin/R CMD INSTALL NanoStringDiff StartedAt: 2025-02-03 16:04:06 -0500 (Mon, 03 Feb 2025) EndedAt: 2025-02-03 16:04:15 -0500 (Mon, 03 Feb 2025) EllapsedTime: 9.1 seconds RetCode: 0 Status: OK