Package: NanoStringDiff Version: 1.37.0 Command: rm -rf NanoStringDiff.buildbin-libdir && mkdir NanoStringDiff.buildbin-libdir && E:\biocbuild\bbs-3.21-bioc\R\bin\R.exe CMD INSTALL --build --library=NanoStringDiff.buildbin-libdir NanoStringDiff_1.37.0.tar.gz StartedAt: 2025-02-04 08:29:29 -0500 (Tue, 04 Feb 2025) EndedAt: 2025-02-04 08:30:13 -0500 (Tue, 04 Feb 2025) EllapsedTime: 43.3 seconds RetCode: 0 Status: OK PackageFile: NanoStringDiff_1.37.0.zip PackageFileSize: 643.9 KiB