Package: NanoStringDiff Version: 1.37.0 Command: chmod a+r NanoStringDiff -R && E:\biocbuild\bbs-3.21-bioc\R\bin\R.exe CMD build --keep-empty-dirs --no-resave-data NanoStringDiff StartedAt: 2025-02-09 20:17:35 -0500 (Sun, 09 Feb 2025) EndedAt: 2025-02-09 20:18:13 -0500 (Sun, 09 Feb 2025) EllapsedTime: 37.9 seconds RetCode: 0 Status: OK PackageFile: NanoStringDiff_1.37.0.tar.gz PackageFileSize: 280.1 KiB