Package: NanoStringDiff Version: 1.37.0 Command: E:\biocbuild\bbs-3.21-bioc\R\bin\R.exe CMD check --no-multiarch --install=check:NanoStringDiff.install-out.txt --library=E:\biocbuild\bbs-3.21-bioc\R\library --no-vignettes --timings NanoStringDiff_1.37.0.tar.gz StartedAt: 2025-02-04 03:59:21 -0500 (Tue, 04 Feb 2025) EndedAt: 2025-02-04 04:02:47 -0500 (Tue, 04 Feb 2025) EllapsedTime: 205.7 seconds RetCode: 0 Status: WARNINGS CheckDir: NanoStringDiff.Rcheck Warnings: 1